BEGIN:VCALENDAR
VERSION:2.0
PRODID:-//Explore Big Sky - ECPv6.10.0//NONSGML v1.0//EN
CALSCALE:GREGORIAN
METHOD:PUBLISH
X-WR-CALNAME:Explore Big Sky
X-ORIGINAL-URL:https://www.explorebigsky.com
X-WR-CALDESC:Events for Explore Big Sky
REFRESH-INTERVAL;VALUE=DURATION:PT1H
X-Robots-Tag:noindex
X-PUBLISHED-TTL:PT1H
BEGIN:VTIMEZONE
TZID:America/Denver
BEGIN:DAYLIGHT
TZOFFSETFROM:-0700
TZOFFSETTO:-0600
TZNAME:MDT
DTSTART:20260308T090000
END:DAYLIGHT
BEGIN:STANDARD
TZOFFSETFROM:-0600
TZOFFSETTO:-0700
TZNAME:MST
DTSTART:20261101T080000
END:STANDARD
END:VTIMEZONE
BEGIN:VEVENT
DTSTART;TZID=America/Denver:20260227T100000
DTEND;TZID=America/Denver:20261228T160000
DTSTAMP:20260425T081814
CREATED:20251219T172556Z
LAST-MODIFIED:20251219T172559Z
UID:10005914-1772186400-1798473600@www.explorebigsky.com
SUMMARY:FAT International Ice Race 2026 Big Sky Montana
DESCRIPTION:FAT International is returning to the U.S. for its annual FAT Ice Race event\, hosted at Moonlight Basin in Big Sky\, Montana on February 27–28\, 2026. Following its historic legacy in the Austrian Alps and its U.S. debut in Aspen in 2024\, FAT Ice Race further expands FAT International’s presence stateside by hosting a Winter pilgrimage for drivers\, creators\, innovators and spectators from all over the country in one of the most pristine mountain destinations of the American West. \nThe weekend will serve as a two-day car culture celebration featuring a curated collection of 50+ showstopping cars competing across different racing formats\, hot laps and air shows – bringing together the world’s top engineering icons\, rising talent and motorsport legends. The event will also debut FAT apparel capsule collection pieces\, surprise musical performances\, as well as various activations and afterparties throughout Big Sky.
URL:https://www.explorebigsky.com/event/fat-international-ice-race-2026-big-sky-montana
CATEGORIES:Sports
END:VEVENT
BEGIN:VEVENT
DTSTART;TZID=America/Denver:20260227T100000
DTEND;TZID=America/Denver:20261228T160000
DTSTAMP:20260425T081814
CREATED:20251231T231001Z
LAST-MODIFIED:20251231T231003Z
UID:10005913-1772186400-1798473600@www.explorebigsky.com
SUMMARY:FAT International’s U.S. Ice Race
DESCRIPTION:FAT International will be returning to the U.S. within its annual FAT Ice Race event\, hosted at Moonlight Basin in Big Sky\, Montana on February 27–28\, 2026. Following its historic legacy in the Austrian Alps and its U.S. debut in Aspen in 2024\, FAT Ice Race further expands FAT International’s presence stateside by hosting a Winter pilgrimage for drivers\, creators\, innovators and spectators from all over the country in one of the most pristine mountain destinations of the American West.\n\nThe weekend will serve as a two-day car culture celebration featuring a curated collection of 50+ showstopping cars competing across different racing formats\, hot laps and air shows – bringing together the world’s top engineering icons\, rising talent and motorsport legends. The event will also debut FAT apparel capsule collection pieces\, surprise musical performances\, as well as various activations and afterparties throughout Big Sky.\n\n 
URL:https://www.explorebigsky.com/event/fat-internationals-u-s-ice-race
CATEGORIES:Sports
ORGANIZER;CN="Big Sky%2C MT at 510 Moonlight Trail 510 Moonlight Trail%2C Big Sky%2C MT 59716":MAILTO:fat@alfordandco.com
END:VEVENT
BEGIN:VEVENT
DTSTART;TZID=America/Denver:20260425T100000
DTEND;TZID=America/Denver:20260425T140000
DTSTAMP:20260425T081814
CREATED:20260424T172545Z
LAST-MODIFIED:20260424T172547Z
UID:10005967-1777111200-1777125600@www.explorebigsky.com
SUMMARY:Gallatin Valley Earth Day Festival
DESCRIPTION:Gallatin Valley Earth Day Festival \nThere is something for everyone! \nExhibits – Talks – Live Music – Pop-up Local Food Court – Bozeman Clean Up – Bozeman Winter Farmers’ Market – Children’s Activities \n10 am – 2 pm \nGallatin County Fairgrounds \nBozeman Winter Farmers’ Market  9 am – 1 pm \nBozeman Clean Up   9am – 2 pm \nYou can pick up your kit an hour before the festival starts\, clean up and return by 10am for the festival!  Look for the City of Bozeman Clean Up kits at their table near the entrance to the festival! \nChildren’s Activities \n10 am – Earth Day Magic Show Join Walt Woolbaugh for “The Magic of Earth Day” – a fast-moving magic show\, alive with surprises and filled with fun for all ages! A show full of magic\, music\, comedy\, & audience participation. Meet the Magical Bunny!”  Part of the Gallatin Valley Earth Day Festival at the Gallatin County Fairgrounds at 10 am in Building #4. \n11 am – noon  – Random Acts of Silliness drop-in storytime \n10am – 2 pm  Petting Zoo – Face painting – Earth Day Passport education games with prizes! \nTalks  \n11 am – From Trash to Treasure: How Composting Helps Create a Healthier Community with Ryan Green\, Happy Trash Can Composting \n12 pm – Bozeman’s Water Supply and Outdoor Efficiency with Jessica Ahlstrohm\, Water Conservation Program Manager and Kori Navarro\, Water Conservation Technician with the City of Bozeman \n1 pm – Live Raptor Presentation with Keaton Thomas\, Montana Raptor Conservation Center
URL:https://www.explorebigsky.com/event/gallatin-valley-earth-day-festival
LOCATION:Gallatin County Fairgrounds\, 901 N Black Ave\, Bozeman\, 59715\, United States
CATEGORIES:Community Event,Environmental
ORGANIZER;CN="Gallatin Valley Earth Day":MAILTO:gallatinvalleyearthday@gmail.com
END:VEVENT
END:VCALENDAR